BEGIN:VCALENDAR
VERSION:2.0
PRODID:-//SGDF Brive - ECPv6.3.7//NONSGML v1.0//EN
CALSCALE:GREGORIAN
METHOD:PUBLISH
X-ORIGINAL-URL:https://sgdf-brive.fr
X-WR-CALDESC:évènements pour SGDF Brive
REFRESH-INTERVAL;VALUE=DURATION:PT1H
X-Robots-Tag:noindex
X-PUBLISHED-TTL:PT1H
BEGIN:VTIMEZONE
TZID:Europe/Paris
BEGIN:DAYLIGHT
TZOFFSETFROM:+0100
TZOFFSETTO:+0200
TZNAME:CEST
DTSTART:20220327T010000
END:DAYLIGHT
BEGIN:STANDARD
TZOFFSETFROM:+0200
TZOFFSETTO:+0100
TZNAME:CET
DTSTART:20221030T010000
END:STANDARD
END:VTIMEZONE
BEGIN:VEVENT
DTSTART;TZID=Europe/Paris:20220903T100000
DTEND;TZID=Europe/Paris:20220903T130000
DTSTAMP:20260425T025433
CREATED:20220616T113537Z
LAST-MODIFIED:20220829T094446Z
UID:436-1662199200-1662210000@sgdf-brive.fr
SUMMARY:Journée d'inscription
DESCRIPTION:Rendez-vous au local pour les inscriptions de l’année 2022-2023. \nPensez à apporter le bulletin d’inscription et la fiche sanitaire ( ci dessous ) et à prendre votre chéquier pour payer l’adhésion ! \nbulletin-2022-2023-inscription-enfant \nFiche_sanitaire_de_liaison
URL:https://sgdf-brive.fr/event/journee-dinscription/
LOCATION:Local – Brive\, 10 Impasse Joséphine Baker\, Brive-La-Gaillarde\, 19100\, France
CATEGORIES:Réunions Farfadets,Réunions Louveteaux / Jeannettes,Réunions Pionniers / Caravelles,Reunions Scouts / Guides
END:VEVENT
BEGIN:VEVENT
DTSTART;TZID=Europe/Paris:20220924T100000
DTEND;TZID=Europe/Paris:20220924T220000
DTSTAMP:20260425T025433
CREATED:20220616T113704Z
LAST-MODIFIED:20220905T083223Z
UID:439-1664013600-1664056800@sgdf-brive.fr
SUMMARY:Journée de Rentrée
DESCRIPTION:Informations complémentaire à venir !
URL:https://sgdf-brive.fr/event/week-end-de-rentree-2/
CATEGORIES:Réunions Farfadets,Réunions Louveteaux / Jeannettes,Réunions Pionniers / Caravelles,Reunions Scouts / Guides
END:VEVENT
END:VCALENDAR